BEGIN:VCALENDAR
VERSION:2.0
PRODID:-//Library Market//iCal Export//EN
BEGIN:VEVENT
SUMMARY:Wellness Wednesday
UID:4680
DTSTAMP:20260420T050600Z
DTSTART:20260527T200000Z
DTEND:20260527T210000Z
LOCATION:Bedford Hills Free Library, 26 Main Street, Bedford Hills, NY 105
 07, United States
ROOM: Wellness Wednesday
DESCRIPTION:May is Mental Health Awareness Month. Join us every Wednesday 
 for an hour of quiet time, meditative music and a calming activity to help
  relax your mind and body. 
URL:https://www.bedfordhillsfreelibrary.org/event/wellness-wednesday-4680
END:VEVENT
END:VCALENDAR
