BEGIN:VCALENDAR
VERSION:2.0
PRODID:-//Library Market//iCal Export//EN
BEGIN:VEVENT
SUMMARY:Cookbook Club: Spring Picnic
UID:4681
DTSTAMP:20260420T050600Z
DTSTART:20260505T213000Z
DTEND:20260505T223000Z
LOCATION:Bedford Hills Free Library, 26 Main Street, Bedford Hills, NY 105
 07, United States
ROOM: Cookbook Club: Spring Picnic
DESCRIPTION:Come explore new cuisine, expand your culinary skills. Cookboo
 k Club meets on the first Tuesday of the month from 5:30-6:30 pm. The sugg
 ested cookbook will be available for checkout at the library or feel free 
 to choose your own recipe &amp; bring a dish to share. We will discuss wha
 t we have learned and sample each other&#039;s dishes.May Cuisine is: Spri
 ng Picnic Suggested Cookbook: The picnic : recipes and inspiration from b
 asket to blanketAllergy disclaimer: Please provide a list of ingredients f
 or your dish in case of allergies.This program takes place on the library&
 #039;s second floor.
URL:https://www.bedfordhillsfreelibrary.org/event/cookbook-club-spring-pic
 nic-4681
END:VEVENT
END:VCALENDAR
