BEGIN:VCALENDAR
VERSION:2.0
PRODID:-//Library Market//iCal Export//EN
BEGIN:VEVENT
SUMMARY:Saturday Steep and Stitch
UID:4682
DTSTAMP:20260420T050600Z
DTSTART:20260516T150000Z
DTEND:20260516T160000Z
LOCATION:Bedford Hills Free Library, 26 Main Street, Bedford Hills, NY 105
 07, United States
ROOM: Saturday Steep and Stitch
DESCRIPTION:Bring your own fiber arts project (knit, crochet, embroidery e
 tc.) and meet at the library to enjoy a cup of tea while working on your p
 iece. Come share skills, and enjoy the company your community membersThis 
 program takes place on the library&#039;s second floor.  
URL:https://www.bedfordhillsfreelibrary.org/event/saturday-steep-and-stitc
 h-4682
END:VEVENT
END:VCALENDAR
