BEGIN:VCALENDAR
VERSION:2.0
PRODID:-//Library Market//iCal Export//EN
BEGIN:VEVENT
SUMMARY:Fine Book Discussion - Intermezzo
UID:4704
DTSTAMP:20260420T050600Z
DTSTART:20260529T161500Z
DTEND:20260529T171500Z
LOCATION:Bedford Hills Community House, 74 Main St, Bedford Hills, NY 1050
 7, United States
ROOM: Fine Book Discussion - Intermezzo
DESCRIPTION:For Adults and Seniors, join us once a month at the Bedford Hi
 lls Community House to discuss popular fiction novels. Meetings are held o
 n the First Friday of the month unless otherwise noted.Sally Rooney&#039;s
  2024 novel Intermezzo follows two grieving, estranged brothers—30-somet
 hing lawyer Peter and 22-year-old chess prodigy Ivan—navigating life, lo
 ve, and complex, age-gap relationships in Dublin after their father&#039;s
  death. The novel explores emotional limbo, exploring how they cope with l
 oss through dysfunctional romances, with the title referring to a &quot;su
 rprise move&quot; in chess. Request a copy at the library. Regular &amp; 
 large print copies are available in the WLS system.Walk-ins Welcome*Please
  note: the May meeting will be held on Friday May 29th 2026.
URL:https://www.bedfordhillsfreelibrary.org/event/fine-book-discussion-int
 ermezzo-4704
END:VEVENT
END:VCALENDAR
