BEGIN:VCALENDAR
VERSION:2.0
PRODID:-//Library Market//iCal Export//EN
BEGIN:VEVENT
SUMMARY:In BeTween Pages (Tween Book Club)
UID:4708
DTSTAMP:20260420T052800Z
DTSTART:20260521T210000Z
DTEND:20260521T220000Z
LOCATION:Bedford Hills Free Library, 26 Main Street, Bedford Hills, NY 105
 07, United States
ROOM: In BeTween Pages (Tween Book Club)
DESCRIPTION:Tweens get together and delve into stories, from realistic fic
 tion to graphic novels. We express our opinions through conversation, writ
 ing, drawing, and other creative activities. Stay tuned for information o
 n this month&#039;s book.
URL:https://www.bedfordhillsfreelibrary.org/event/between-pages-tween-book
 -club-4708
END:VEVENT
END:VCALENDAR
