BEGIN:VCALENDAR
VERSION:2.0
PRODID:-//Library Market//iCal Export//EN
BEGIN:VEVENT
SUMMARY:Ride in Style: Bike Decorating for Memorial Day
UID:4727
DTSTAMP:20260420T050600Z
DTSTART:20260522T170000Z
DTEND:20260522T190000Z
LOCATION:Bedford Hills Free Library, 26 Main Street, Bedford Hills, NY 105
 07, United States
ROOM: Ride in Style: Bike Decorating for Memorial Day
DESCRIPTION:Get parade ready and join us for a bike decorating event! Join
  us outside on the driveway to decorate your bike with patriotic streamers
 , star spangled signs, and more. Can&#039;t bring your bike with you? You 
 can make decor or grab supplies to add to your bike at home.Then, join our
  community and ride in the Memorial Day Parade in Bedford Hills. Parade m
 eet-up details: Monday, May 25 at 8:45am at Babbitt Road and North Street.
 This program is offered in collaboration with the Bedford Hills Business A
 ssociation.
URL:https://www.bedfordhillsfreelibrary.org/event/ride-style-bike-decorati
 ng-memorial-day-4727
END:VEVENT
END:VCALENDAR
